BEGIN:VCALENDAR
VERSION:2.0
PRODID:-//Emergency Solutions International - ECPv6.15.20//NONSGML v1.0//EN
CALSCALE:GREGORIAN
METHOD:PUBLISH
X-ORIGINAL-URL:https://esintl.ca
X-WR-CALDESC:Events for Emergency Solutions International
REFRESH-INTERVAL;VALUE=DURATION:PT1H
X-Robots-Tag:noindex
X-PUBLISHED-TTL:PT1H
BEGIN:VTIMEZONE
TZID:America/Toronto
BEGIN:DAYLIGHT
TZOFFSETFROM:-0500
TZOFFSETTO:-0400
TZNAME:EDT
DTSTART:20210314T070000
END:DAYLIGHT
BEGIN:STANDARD
TZOFFSETFROM:-0400
TZOFFSETTO:-0500
TZNAME:EST
DTSTART:20211107T060000
END:STANDARD
BEGIN:DAYLIGHT
TZOFFSETFROM:-0500
TZOFFSETTO:-0400
TZNAME:EDT
DTSTART:20220313T070000
END:DAYLIGHT
BEGIN:STANDARD
TZOFFSETFROM:-0400
TZOFFSETTO:-0500
TZNAME:EST
DTSTART:20221106T060000
END:STANDARD
BEGIN:DAYLIGHT
TZOFFSETFROM:-0500
TZOFFSETTO:-0400
TZNAME:EDT
DTSTART:20230312T070000
END:DAYLIGHT
BEGIN:STANDARD
TZOFFSETFROM:-0400
TZOFFSETTO:-0500
TZNAME:EST
DTSTART:20231105T060000
END:STANDARD
END:VTIMEZONE
BEGIN:VEVENT
DTSTART;TZID=America/Toronto:20220830T080000
DTEND;TZID=America/Toronto:20220830T150000
DTSTAMP:20260423T114109
CREATED:20220121T195020Z
LAST-MODIFIED:20220830T115103Z
UID:10000024-1661846400-1661871600@esintl.ca
SUMMARY:Introduction to Emergency Operations Center Management
DESCRIPTION:The Introduction to Emergency Operations Center Management course is designed to introduce the role\, design\, and function of the Emergency Operations Center (EOC)\, the supportive relationship to Area Command or Incident Command Post\, as well as coordination of multiple cooperating and assisting agencies.  This course is a group learning experience focusing on validating participants emergency planning documents and competencies of role players within the EOC and On-Site Command (ICP)\, a realistic tabletop exercise is conducted. \nSpecific Course Topics \n\nDescribe the role EOCs play in overall multiagency coordination.\nDescribe the processes and procedures for activating the EOC.\nPPOST\, Management by Objectives (SMART)\, and introduction to the Planning P.\nDescribe the factors involved in staffing and organizing the EOC.\nDescribe factors for effective EOCs.\nIdentify considerations for deactivating the EOC within the context of Recovery.\nGiven a scenario-based incident\, utilize key EOC concepts to successfully complete the scenario.\n\n Target Audience \nPersonnel required to be part of the EOC during an incident\, Command Staff from the Incident Command Post supported by an EOC\, Co-operating and Assisting Agencies\, Program Level Personnel responsible for Plan\, Program and Emergency Support Function documentation creation/management. \nDuration \nOne day (7 hours) \nPre-requisite \nICS-100 and ICS- 402 (are recommended) \nNote: All our courses are set at Eastern Time zone\, which is Toronto time.
URL:https://esintl.ca/course/introduction-to-emergency-operations-center-management/
LOCATION:Virtual
CATEGORIES:Emergency Operations Centre Management
END:VEVENT
END:VCALENDAR