BEGIN:VCALENDAR
VERSION:2.0
PRODID:-//Emergency Solutions International - ECPv6.15.20//NONSGML v1.0//EN
CALSCALE:GREGORIAN
METHOD:PUBLISH
X-WR-CALNAME:Emergency Solutions International
X-ORIGINAL-URL:https://esintl.ca
X-WR-CALDESC:Events for Emergency Solutions International
REFRESH-INTERVAL;VALUE=DURATION:PT1H
X-Robots-Tag:noindex
X-PUBLISHED-TTL:PT1H
BEGIN:VTIMEZONE
TZID:America/Toronto
BEGIN:DAYLIGHT
TZOFFSETFROM:-0500
TZOFFSETTO:-0400
TZNAME:EDT
DTSTART:20210314T070000
END:DAYLIGHT
BEGIN:STANDARD
TZOFFSETFROM:-0400
TZOFFSETTO:-0500
TZNAME:EST
DTSTART:20211107T060000
END:STANDARD
BEGIN:DAYLIGHT
TZOFFSETFROM:-0500
TZOFFSETTO:-0400
TZNAME:EDT
DTSTART:20220313T070000
END:DAYLIGHT
BEGIN:STANDARD
TZOFFSETFROM:-0400
TZOFFSETTO:-0500
TZNAME:EST
DTSTART:20221106T060000
END:STANDARD
BEGIN:DAYLIGHT
TZOFFSETFROM:-0500
TZOFFSETTO:-0400
TZNAME:EDT
DTSTART:20230312T070000
END:DAYLIGHT
BEGIN:STANDARD
TZOFFSETFROM:-0400
TZOFFSETTO:-0500
TZNAME:EST
DTSTART:20231105T060000
END:STANDARD
END:VTIMEZONE
BEGIN:VEVENT
DTSTART;TZID=America/Toronto:20221207T080000
DTEND;TZID=America/Toronto:20221207T150000
DTSTAMP:20260423T065522
CREATED:20220124T190036Z
LAST-MODIFIED:20221117T155105Z
UID:10000031-1670400000-1670425200@esintl.ca
SUMMARY:Intermediate Emergency Operations Center Management
DESCRIPTION:This intermediate level builds upon Introduction to  EOC Management Course\, where participants are taken through the essentials of managing an Emergency Operations Centre (EOC) in a time of crisis.  Where possible\, a crisis communications module (Public Information Officer) is introduced to add the current challenges presented by traditional and citizen (social) media to the course. The Intermediate Emergency Operations Center Management course is designed to provide next level experience on the role of PIO as it relates to Crisis Communications\, Planning Process\, Emergency Support functions\, how to manage resources Pre and Post EOC activation and demobilization\, how to carefully assess various risks etc. This course would also provide a holistic comprehensive understanding on Business Continuity and Program Management in times of crisis as an EOC Manager. As Canada works to standardize the EOC education curriculum\, ESI welcomes leaders to review this course with leaders to review this course with leaders to review this course with a view towards improvement and standardization with existing community programs. \nTable-top Drills for On Site Command and the Emergency Operations Centre  \nWith a view toward validating emergency planning documents and competencies of role players within the EOC and On-Site Command\, realistic tabletop exercises are used to reinforce the teachings of the course curriculum.  Utilizing digital simulation as a medium for realism\, customized tabletops are designed to challenge emergency management practitioners. \nCourse Objectives \nAt the completion of this course\, participants will be able to: \n\nDescribe the role EOCs play in overall multiagency coordination.\nPerform necessary actions for Crisis Communication (PIO role).\nCarry out efficiently and effectively The Planning Process.\nExplain and Conduct Emergency Support Functions.\nPerform proper Resource Management.\nConduct Incident Risk Assessments as part of the EOC Management Function.\nProvide relevant support for overall Business Continuity.\nGiven a scenario-based incident\, utilize key EOC concepts to successfully complete group scenarios.\n\nDuration \n1 day \nPre-requisites \nIntroduction to Emergency Operations Center Management Course. While not required\, ICS I-100\, Introduction to the Incident Command System or I-402\, ICS for Executives are recommended to take as pre-requisites.
URL:https://esintl.ca/course/intermediate-emergency-operations-center-management/
CATEGORIES:Emergency Operations Centre Management
END:VEVENT
END:VCALENDAR