BEGIN:VCALENDAR
VERSION:2.0
PRODID:-//Emergency Solutions International - ECPv6.15.20//NONSGML v1.0//EN
CALSCALE:GREGORIAN
METHOD:PUBLISH
X-ORIGINAL-URL:https://esintl.ca
X-WR-CALDESC:Events for Emergency Solutions International
REFRESH-INTERVAL;VALUE=DURATION:PT1H
X-Robots-Tag:noindex
X-PUBLISHED-TTL:PT1H
BEGIN:VTIMEZONE
TZID:America/Toronto
BEGIN:DAYLIGHT
TZOFFSETFROM:-0500
TZOFFSETTO:-0400
TZNAME:EDT
DTSTART:20220313T070000
END:DAYLIGHT
BEGIN:STANDARD
TZOFFSETFROM:-0400
TZOFFSETTO:-0500
TZNAME:EST
DTSTART:20221106T060000
END:STANDARD
BEGIN:DAYLIGHT
TZOFFSETFROM:-0500
TZOFFSETTO:-0400
TZNAME:EDT
DTSTART:20230312T070000
END:DAYLIGHT
BEGIN:STANDARD
TZOFFSETFROM:-0400
TZOFFSETTO:-0500
TZNAME:EST
DTSTART:20231105T060000
END:STANDARD
BEGIN:DAYLIGHT
TZOFFSETFROM:-0500
TZOFFSETTO:-0400
TZNAME:EDT
DTSTART:20240310T070000
END:DAYLIGHT
BEGIN:STANDARD
TZOFFSETFROM:-0400
TZOFFSETTO:-0500
TZNAME:EST
DTSTART:20241103T060000
END:STANDARD
END:VTIMEZONE
BEGIN:VEVENT
DTSTART;TZID=America/Toronto:20230307T080000
DTEND;TZID=America/Toronto:20230308T150000
DTSTAMP:20260423T031007
CREATED:20220524T123932Z
LAST-MODIFIED:20230210T160444Z
UID:10000007-1678176000-1678287600@esintl.ca
SUMMARY:Introduction to Emergency Operations Center Management
DESCRIPTION:A group learning experience focusing on validating emergency planning documents and competencies of role players within the EOC and On-Site Command\, realistic tabletop exercises are developed. Utilizing digital simulation as a medium for realism\, customized tabletops are designed to challenge emergency management practitioners. \nSpecific Course Topics \n\nICS review and EOC Fundamentals\nEOC setup and support during long duration events\nIncident Management Roles\nPPOST\, Management by Objectives (SMART)\, Incident Action Planning\, Planning P\nConcepts for selection of an EOC Facility\nConcepts for design of an EOC Facility\nConcepts for configuration of an EOC Facility\nConcepts for staffing of an EOC Facility\n\n Target Audience \nPersonnel interested in being involved in the activation and deactivation of an Emergency Operations Centre and its operations during an incident. \nDuration \nOne day (7 hours) \nPre-requisite \nICS-100 \nNote: All our courses are set at Eastern Time zone\, which is Toronto time.
URL:https://esintl.ca/course/introduction-to-emergency-operations-center-management-closed-event-for-perth-county-ontario/
LOCATION:Virtual
CATEGORIES:Emergency Operations Centre Management
END:VEVENT
END:VCALENDAR