BEGIN:VCALENDAR
VERSION:2.0
PRODID:-//Emergency Solutions International - ECPv6.15.20//NONSGML v1.0//EN
CALSCALE:GREGORIAN
METHOD:PUBLISH
X-ORIGINAL-URL:https://esintl.ca
X-WR-CALDESC:Events for Emergency Solutions International
REFRESH-INTERVAL;VALUE=DURATION:PT1H
X-Robots-Tag:noindex
X-PUBLISHED-TTL:PT1H
BEGIN:VTIMEZONE
TZID:America/Halifax
BEGIN:DAYLIGHT
TZOFFSETFROM:-0400
TZOFFSETTO:-0300
TZNAME:ADT
DTSTART:20250309T060000
END:DAYLIGHT
BEGIN:STANDARD
TZOFFSETFROM:-0300
TZOFFSETTO:-0400
TZNAME:AST
DTSTART:20251102T050000
END:STANDARD
BEGIN:DAYLIGHT
TZOFFSETFROM:-0400
TZOFFSETTO:-0300
TZNAME:ADT
DTSTART:20260308T060000
END:DAYLIGHT
BEGIN:STANDARD
TZOFFSETFROM:-0300
TZOFFSETTO:-0400
TZNAME:AST
DTSTART:20261101T050000
END:STANDARD
BEGIN:DAYLIGHT
TZOFFSETFROM:-0400
TZOFFSETTO:-0300
TZNAME:ADT
DTSTART:20270314T060000
END:DAYLIGHT
BEGIN:STANDARD
TZOFFSETFROM:-0300
TZOFFSETTO:-0400
TZNAME:AST
DTSTART:20271107T050000
END:STANDARD
END:VTIMEZONE
BEGIN:VEVENT
DTSTART;VALUE=DATE:20260512
DTEND;VALUE=DATE:20260513
DTSTAMP:20260421T075204
CREATED:20260408T133020Z
LAST-MODIFIED:20260408T133324Z
UID:10000073-1778544000-1778630399@esintl.ca
SUMMARY:Save Our Own Training- Private Event
DESCRIPTION:
URL:https://esintl.ca/course/save-our-own-training-private-event/
LOCATION:Private Event
CATEGORIES:Exercise
END:VEVENT
BEGIN:VEVENT
DTSTART;VALUE=DATE:20260513
DTEND;VALUE=DATE:20260514
DTSTAMP:20260421T075204
CREATED:20260408T132747Z
LAST-MODIFIED:20260408T132747Z
UID:10000072-1778630400-1778716799@esintl.ca
SUMMARY:Full-Scale Exercise - Private Event
DESCRIPTION:
URL:https://esintl.ca/course/full-scale-exercise-private-event-2/
LOCATION:Private Event
CATEGORIES:Exercise
END:VEVENT
END:VCALENDAR