BEGIN:VCALENDAR
VERSION:2.0
PRODID:-//Emergency Solutions International - ECPv6.15.20//NONSGML v1.0//EN
CALSCALE:GREGORIAN
METHOD:PUBLISH
X-WR-CALNAME:Emergency Solutions International
X-ORIGINAL-URL:https://esintl.ca
X-WR-CALDESC:Events for Emergency Solutions International
REFRESH-INTERVAL;VALUE=DURATION:PT1H
X-Robots-Tag:noindex
X-PUBLISHED-TTL:PT1H
BEGIN:VTIMEZONE
TZID:America/Halifax
BEGIN:DAYLIGHT
TZOFFSETFROM:-0400
TZOFFSETTO:-0300
TZNAME:ADT
DTSTART:20230312T060000
END:DAYLIGHT
BEGIN:STANDARD
TZOFFSETFROM:-0300
TZOFFSETTO:-0400
TZNAME:AST
DTSTART:20231105T050000
END:STANDARD
BEGIN:DAYLIGHT
TZOFFSETFROM:-0400
TZOFFSETTO:-0300
TZNAME:ADT
DTSTART:20240310T060000
END:DAYLIGHT
BEGIN:STANDARD
TZOFFSETFROM:-0300
TZOFFSETTO:-0400
TZNAME:AST
DTSTART:20241103T050000
END:STANDARD
BEGIN:DAYLIGHT
TZOFFSETFROM:-0400
TZOFFSETTO:-0300
TZNAME:ADT
DTSTART:20250309T060000
END:DAYLIGHT
BEGIN:STANDARD
TZOFFSETFROM:-0300
TZOFFSETTO:-0400
TZNAME:AST
DTSTART:20251102T050000
END:STANDARD
END:VTIMEZONE
BEGIN:VEVENT
DTSTART;TZID=America/Halifax:20240410T090000
DTEND;TZID=America/Halifax:20240411T170000
DTSTAMP:20260424T143324
CREATED:20231228T175522Z
LAST-MODIFIED:20240222T192102Z
UID:10000049-1712739600-1712854800@esintl.ca
SUMMARY:Advanced Incident Management: ICS I-400
DESCRIPTION:ICS-400\, Advanced Incident Management training and certificate for senior personnel and responders who are expected to perform in a management role in a complex incident environment rather than tactical. Expanding upon information covered in ICS-100 through ICS-300 courses\, ICS-400 emphasizes large-scale organizational development\, roles and relationships of the command and general staff\, and planning\, operational\, logistical\, and fiscal considerations related to large and complex incident and event management. The course also describes the application of Area Command and the importance of interagency coordination on complex incidents and events. Course participants will be better prepared to function as a supervisor in a larger incident or as a member of a Type 1 Incident Management Team. This advanced course also uses risk-based scenario tabletop activities to apply the curriculum. Custom scenarios may be developed for groups from a single organization. \nSpecific Course Topics \n\nFundamentals review for Command and General Staff\nMajor and/or Complex Incident/Event Management\nArea Command\nMultiagency Coordination (MAC)\n\n Target Audience \nResponders who will serve as Command or General Staff in an ICS organization\, select department heads with multi-agency coordination system responsibilities\, area commanders\, emergency managers\, and multi-agency coordination system/emergency operations center managers for expanding or Type 1 & 2 incidents. Community leader who have interoperability or Program responsibilities. \nDuration \nTwo days (16 hours)  \n Pre-requisite \nSuccessful completion of ICS-300  \nApplication of ICS 300 within your organization \nPlease note: All our courses are set according to Eastern Time Zone\, which is Toronto time.
URL:https://esintl.ca/course/advanced-incident-management-ics-i-400-2/
LOCATION:Virtual
CATEGORIES:ICS I-400: Advanced Incident Command System
END:VEVENT
BEGIN:VEVENT
DTSTART;TZID=America/Halifax:20240410T090000
DTEND;TZID=America/Halifax:20240411T170000
DTSTAMP:20260424T143324
CREATED:20240226T153859Z
LAST-MODIFIED:20240226T153859Z
UID:10000064-1712739600-1712854800@esintl.ca
SUMMARY:Basic Incident Command System: ICS I-200
DESCRIPTION:ICS-200\, Basic Incident Command System for Initial Response\, reviews the Incident Command System (ICS)\, provides the context for ICS within initial response\, and supports higher level ICS training. This two-day course provides training on\, and resources for\, personnel who are likely to assume a supervisory position within their organization using the Incident Command System. A number of tabletop activities assists participants to understand and apply the course curriculum.  At the completion of this course\, you will be able to: apply the 14 ICS principles to response situations\, understand Principles of Leadership\, set objectives to set up an Incident Action Plan\, organize a response organization based upon objectives\, and initiate Command\, Unified Command and Transfer of Command. This course is essential for response personnel at the supervisory level who are involved with emergency planning\, response\, or recovery efforts. \n  \nSpecific Course Topics \n\nLeadership & Management\nDelegation of Authority & Management by Objectives\nFunctional Areas & Positions\nBriefings\nOrganizational Flexibility\nTransfer of Command\n\n  \nTarget Audience \nResponse personnel at the supervisory level.\nProgram Managers and Training Staff.\nCorporation Representatives from moderate to high risk workplaces. \nDuration \nTwo days (16 hours) \nPre-requisite \nSuccessful completion of ICS-100 \nPlease note: All our courses are set according to eastern time zone\, which is Toronto time.
URL:https://esintl.ca/course/basic-incident-command-system-ics-i-200-4/
LOCATION:Virtual
CATEGORIES:ICS I-200: Basic ICS for Single Resources and Initial Action Incidents
END:VEVENT
END:VCALENDAR