BEGIN:VCALENDAR
VERSION:2.0
PRODID:-//Emergency Solutions International - ECPv6.15.20//NONSGML v1.0//EN
CALSCALE:GREGORIAN
METHOD:PUBLISH
X-ORIGINAL-URL:https://esintl.ca
X-WR-CALDESC:Events for Emergency Solutions International
REFRESH-INTERVAL;VALUE=DURATION:PT1H
X-Robots-Tag:noindex
X-PUBLISHED-TTL:PT1H
BEGIN:VTIMEZONE
TZID:America/Halifax
BEGIN:DAYLIGHT
TZOFFSETFROM:-0400
TZOFFSETTO:-0300
TZNAME:ADT
DTSTART:20230312T060000
END:DAYLIGHT
BEGIN:STANDARD
TZOFFSETFROM:-0300
TZOFFSETTO:-0400
TZNAME:AST
DTSTART:20231105T050000
END:STANDARD
BEGIN:DAYLIGHT
TZOFFSETFROM:-0400
TZOFFSETTO:-0300
TZNAME:ADT
DTSTART:20240310T060000
END:DAYLIGHT
BEGIN:STANDARD
TZOFFSETFROM:-0300
TZOFFSETTO:-0400
TZNAME:AST
DTSTART:20241103T050000
END:STANDARD
BEGIN:DAYLIGHT
TZOFFSETFROM:-0400
TZOFFSETTO:-0300
TZNAME:ADT
DTSTART:20250309T060000
END:DAYLIGHT
BEGIN:STANDARD
TZOFFSETFROM:-0300
TZOFFSETTO:-0400
TZNAME:AST
DTSTART:20251102T050000
END:STANDARD
END:VTIMEZONE
BEGIN:VEVENT
DTSTART;TZID=America/Halifax:20240822T090000
DTEND;TZID=America/Halifax:20240823T170000
DTSTAMP:20260424T085125
CREATED:20231228T180705Z
LAST-MODIFIED:20240523T151222Z
UID:10000051-1724317200-1724432400@esintl.ca
SUMMARY:Basic Incident Command System: ICS I-200
DESCRIPTION:ICS-200\, Basic Incident Command System for Initial Response\, reviews the Incident Command System (ICS)\, provides the context for ICS within initial response\, and supports higher level ICS training. This two-day course provides training on\, and resources for\, personnel who are likely to assume a supervisory position within their organization using the Incident Command System. A number of tabletop activities assists participants to understand and apply the course curriculum.  At the completion of this course\, you will be able to: apply the 14 ICS principles to response situations\, understand Principles of Leadership\, set objectives to set up an Incident Action Plan\, organize a response organization based upon objectives\, and initiate Command\, Unified Command and Transfer of Command. This course is essential for response personnel at the supervisory level who are involved with emergency planning\, response\, or recovery efforts. \n  \nSpecific Course Topics \n\nLeadership & Management\nDelegation of Authority & Management by Objectives\nFunctional Areas & Positions\nBriefings\nOrganizational Flexibility\nTransfer of Command\n\n  \nTarget Audience \nResponse personnel at the supervisory level.\nProgram Managers and Training Staff.\nCorporation Representatives from moderate to high risk workplaces. \nDuration \nTwo days (16 hours) \nPre-requisite \nSuccessful completion of ICS-100
URL:https://esintl.ca/course/basic-incident-command-system-ics-i-200-3/
LOCATION:Virtual
CATEGORIES:ICS I-200: Basic ICS for Single Resources and Initial Action Incidents
END:VEVENT
END:VCALENDAR