BEGIN:VCALENDAR
VERSION:2.0
PRODID:-//Emergency Solutions International - ECPv6.15.20//NONSGML v1.0//EN
CALSCALE:GREGORIAN
METHOD:PUBLISH
X-ORIGINAL-URL:https://esintl.ca
X-WR-CALDESC:Events for Emergency Solutions International
REFRESH-INTERVAL;VALUE=DURATION:PT1H
X-Robots-Tag:noindex
X-PUBLISHED-TTL:PT1H
BEGIN:VTIMEZONE
TZID:America/Halifax
BEGIN:DAYLIGHT
TZOFFSETFROM:-0400
TZOFFSETTO:-0300
TZNAME:ADT
DTSTART:20230312T060000
END:DAYLIGHT
BEGIN:STANDARD
TZOFFSETFROM:-0300
TZOFFSETTO:-0400
TZNAME:AST
DTSTART:20231105T050000
END:STANDARD
BEGIN:DAYLIGHT
TZOFFSETFROM:-0400
TZOFFSETTO:-0300
TZNAME:ADT
DTSTART:20240310T060000
END:DAYLIGHT
BEGIN:STANDARD
TZOFFSETFROM:-0300
TZOFFSETTO:-0400
TZNAME:AST
DTSTART:20241103T050000
END:STANDARD
BEGIN:DAYLIGHT
TZOFFSETFROM:-0400
TZOFFSETTO:-0300
TZNAME:ADT
DTSTART:20250309T060000
END:DAYLIGHT
BEGIN:STANDARD
TZOFFSETFROM:-0300
TZOFFSETTO:-0400
TZNAME:AST
DTSTART:20251102T050000
END:STANDARD
END:VTIMEZONE
BEGIN:VTIMEZONE
TZID:America/Toronto
BEGIN:DAYLIGHT
TZOFFSETFROM:-0500
TZOFFSETTO:-0400
TZNAME:EDT
DTSTART:20210314T070000
END:DAYLIGHT
BEGIN:STANDARD
TZOFFSETFROM:-0400
TZOFFSETTO:-0500
TZNAME:EST
DTSTART:20211107T060000
END:STANDARD
BEGIN:DAYLIGHT
TZOFFSETFROM:-0500
TZOFFSETTO:-0400
TZNAME:EDT
DTSTART:20220313T070000
END:DAYLIGHT
BEGIN:STANDARD
TZOFFSETFROM:-0400
TZOFFSETTO:-0500
TZNAME:EST
DTSTART:20221106T060000
END:STANDARD
BEGIN:DAYLIGHT
TZOFFSETFROM:-0500
TZOFFSETTO:-0400
TZNAME:EDT
DTSTART:20230312T070000
END:DAYLIGHT
BEGIN:STANDARD
TZOFFSETFROM:-0400
TZOFFSETTO:-0500
TZNAME:EST
DTSTART:20231105T060000
END:STANDARD
BEGIN:DAYLIGHT
TZOFFSETFROM:-0500
TZOFFSETTO:-0400
TZNAME:EDT
DTSTART:20240310T070000
END:DAYLIGHT
BEGIN:STANDARD
TZOFFSETFROM:-0400
TZOFFSETTO:-0500
TZNAME:EST
DTSTART:20241103T060000
END:STANDARD
END:VTIMEZONE
BEGIN:VEVENT
DTSTART;TZID=America/Halifax:20241023T090000
DTEND;TZID=America/Halifax:20241025T120000
DTSTAMP:20260421T065409
CREATED:20231228T181757Z
LAST-MODIFIED:20240910T164726Z
UID:10000053-1729674000-1729857600@esintl.ca
SUMMARY:Intermediate Incident Command System : ICS I-300
DESCRIPTION:ICS-300\, Intermediate Incident Management\, this 2½ day course defines the unique qualities of an expanding situation. This course is designed to enable personnel to operate efficiently using the Incident Command System in a supervisory role during expanding incidents. Expanding upon ICS-100 and ICS-200 curriculum\, this course ensures that responders understand the ICS concepts that allow an incident management organization to expand and contract as needed to fit the incident and maintain its operational effectiveness\, while also providing an in-depth review of ICS fundamentals\, assessing incidents\, and setting objectives\, unified command\, resource management\, the planning process\, demobilization\, and transfer and termination of command in an incident. Participants will be facilitated to lead 4+ tabletop activities with consultations these tabletop scenarios may be created to use participant organization risk scenarios. \nSpecific Course Topics \n\nRoles and Responsibilities\nInitial response activities\nStaffing and organizing\nRelationships and interactions with staff and other stakeholders\nExecutive-level interactions\nCommand’s direction\nExercise Learning Components\nMeetings\, Briefings and Support Activities\nIAP Prep and Approval\nExecuting Plan and Assessing Progress\nExternal Coordination\nTransitioning and Demobilization\nUse of tabletop activities which may be customized to reinforce training objectives\n\n Target Audience \nResponders who may assume a supervisory role in expanding incidents or Type 3 incidents\, such as command staff\, section chiefs\, strike team leaders\, task force leaders\, unit leaders\, division/group supervisors\, branch directors\, and multi-agency coordination system/emergency operations centre staff.\nProgram administrators\, corporate leaders from moderate to high-risk organizations and workplaces. \nDuration \n2 ½ days (20 hours) \nPre-requisite \nSuccessful completion of ICS-200
URL:https://esintl.ca/course/intermediate-incident-management-ics-i-300-4/
LOCATION:Virtual
CATEGORIES:ICS I-300: Intermediate ICS for Expanding Incidents,ICS Progressive Series of Courses
END:VEVENT
BEGIN:VEVENT
DTSTART;TZID=America/Halifax:20240702T090000
DTEND;TZID=America/Halifax:20240704T120000
DTSTAMP:20260421T065409
CREATED:20240111T001741Z
LAST-MODIFIED:20240523T151409Z
UID:10000063-1719910800-1720094400@esintl.ca
SUMMARY:Intermediate Incident Command System : ICS I-300
DESCRIPTION:ICS-300\, Intermediate Incident Management\, this 2½ day course defines the unique qualities of an expanding situation. This course is designed to enable personnel to operate efficiently using the Incident Command System in a supervisory role during expanding incidents. Expanding upon ICS-100 and ICS-200 curriculum\, this course ensures that responders understand the ICS concepts that allow an incident management organization to expand and contract as needed to fit the incident and maintain its operational effectiveness\, while also providing an in-depth review of ICS fundamentals\, assessing incidents\, and setting objectives\, unified command\, resource management\, the planning process\, demobilization\, and transfer and termination of command in an incident. Participants will be facilitated to lead 4+ tabletop activities with consultations these tabletop scenarios may be created to use participant organization risk scenarios. \nSpecific Course Topics \n\nRoles and Responsibilities\nInitial response activities\nStaffing and organizing\nRelationships and interactions with staff and other stakeholders\nExecutive-level interactions\nCommand’s direction\nExercise Learning Components\nMeetings\, Briefings and Support Activities\nIAP Prep and Approval\nExecuting Plan and Assessing Progress\nExternal Coordination\nTransitioning and Demobilization\nUse of tabletop activities which may be customized to reinforce training objectives\n\n Target Audience \nResponders who may assume a supervisory role in expanding incidents or Type 3 incidents\, such as command staff\, section chiefs\, strike team leaders\, task force leaders\, unit leaders\, division/group supervisors\, branch directors\, and multi-agency coordination system/emergency operations centre staff.\nProgram administrators\, corporate leaders from moderate to high-risk organizations and workplaces. \nDuration \n2 ½ days (20 hours) \nPre-requisite \nSuccessful completion of ICS-200 \nPlease note: All our courses are set on eastern time zone\, which is Toronto time.
URL:https://esintl.ca/course/intermediate-incident-command-system-ics-i-300/
LOCATION:Virtual
CATEGORIES:ICS I-300: Intermediate ICS for Expanding Incidents,ICS Progressive Series of Courses
END:VEVENT
BEGIN:VEVENT
DTSTART;TZID=America/Halifax:20240326T090000
DTEND;TZID=America/Halifax:20240328T120000
DTSTAMP:20260421T065409
CREATED:20231228T174626Z
LAST-MODIFIED:20240111T002130Z
UID:10000048-1711443600-1711627200@esintl.ca
SUMMARY:Intermediate Incident Command System : ICS I-300
DESCRIPTION:ICS-300\, Intermediate Incident Management\, this 2½ day course defines the unique qualities of an expanding situation. This course is designed to enable personnel to operate efficiently using the Incident Command System in a supervisory role during expanding incidents. Expanding upon ICS-100 and ICS-200 curriculum\, this course ensures that responders understand the ICS concepts that allow an incident management organization to expand and contract as needed to fit the incident and maintain its operational effectiveness\, while also providing an in-depth review of ICS fundamentals\, assessing incidents\, and setting objectives\, unified command\, resource management\, the planning process\, demobilization\, and transfer and termination of command in an incident. Participants will be facilitated to lead 4+ tabletop activities with consultations these tabletop scenarios may be created to use participant organization risk scenarios. \nSpecific Course Topics \n\nRoles and Responsibilities\nInitial response activities\nStaffing and organizing\nRelationships and interactions with staff and other stakeholders\nExecutive-level interactions\nCommand’s direction\nExercise Learning Components\nMeetings\, Briefings and Support Activities\nIAP Prep and Approval\nExecuting Plan and Assessing Progress\nExternal Coordination\nTransitioning and Demobilization\nUse of tabletop activities which may be customized to reinforce training objectives\n\n Target Audience \nResponders who may assume a supervisory role in expanding incidents or Type 3 incidents\, such as command staff\, section chiefs\, strike team leaders\, task force leaders\, unit leaders\, division/group supervisors\, branch directors\, and multi-agency coordination system/emergency operations centre staff.\nProgram administrators\, corporate leaders from moderate to high-risk organizations and workplaces. \nDuration \n2 ½ days (20 hours) \nPre-requisite \nSuccessful completion of ICS-200 \nPlease note: All our courses are set on eastern time zone\, which is Toronto time.
URL:https://esintl.ca/course/intermediate-incident-management-ics-i-300-3/
LOCATION:Virtual
CATEGORIES:ICS I-300: Intermediate ICS for Expanding Incidents,ICS Progressive Series of Courses
END:VEVENT
BEGIN:VEVENT
DTSTART;TZID=America/Toronto:20230725T080000
DTEND;TZID=America/Toronto:20230727T150000
DTSTAMP:20260421T065409
CREATED:20220623T174444Z
LAST-MODIFIED:20220913T144446Z
UID:10000006-1690272000-1690470000@esintl.ca
SUMMARY:Intermediate Incident Management : ICS I-300
DESCRIPTION:ICS-300\, Intermediate Incident Management\, this 2½ day course defines the unique qualities of an expanding situation. This course is designed to enable personnel to operate efficiently using the Incident Command System in a supervisory role during expanding incidents. Expanding upon ICS-100 and ICS-200 curriculum\, this course ensures that responders understand the ICS concepts that allow an incident management organization to expand and contract as needed to fit the incident and maintain its operational effectiveness\, while also providing an in-depth review of ICS fundamentals\, assessing incidents\, and setting objectives\, unified command\, resource management\, the planning process\, demobilization\, and transfer and termination of command in an incident. Participants will be facilitated to lead 4+ tabletop activities with consultations these tabletop scenarios may be created to use participant organization risk scenarios. \nSpecific Course Topics \n\nRoles and Responsibilities\nInitial response activities\nStaffing and organizing\nRelationships and interactions with staff and other stakeholders\nExecutive-level interactions\nCommand’s direction\nExercise Learning Components\nMeetings\, Briefings and Support Activities\nIAP Prep and Approval\nExecuting Plan and Assessing Progress\nExternal Coordination\nTransitioning and Demobilization\nUse of tabletop activities which may be customized to reinforce training objectives\n\n Target Audience \nResponders who may assume a supervisory role in expanding incidents or Type 3 incidents\, such as command staff\, section chiefs\, strike team leaders\, task force leaders\, unit leaders\, division/group supervisors\, branch directors\, and multi-agency coordination system/emergency operations centre staff.\nProgram administrators\, corporate leaders from moderate to high-risk organizations and workplaces. \nDuration \n2 ½ days (20 hours) \nPre-requisite \nSuccessful completion of ICS-200 \nPlease note: All our courses are set on eastern time zone\, which is Toronto time.
URL:https://esintl.ca/course/intermediate-incident-management-ics-i-300-2/
LOCATION:Virtual
CATEGORIES:ICS I-300: Intermediate ICS for Expanding Incidents,ICS Progressive Series of Courses
END:VEVENT
BEGIN:VEVENT
DTSTART;TZID=America/Toronto:20230605T080000
DTEND;TZID=America/Toronto:20230607T150000
DTSTAMP:20260421T065409
CREATED:20220623T162457Z
LAST-MODIFIED:20230323T150647Z
UID:10000008-1685952000-1686150000@esintl.ca
SUMMARY:Intermediate Incident Management : ICS I-300
DESCRIPTION:ICS-300\, Intermediate Incident Management\, this 2½ day course defines the unique qualities of an expanding situation. This course is designed to enable personnel to operate efficiently using the Incident Command System in a supervisory role during expanding incidents. Expanding upon ICS-100 and ICS-200 curriculum\, this course ensures that responders understand the ICS concepts that allow an incident management organization to expand and contract as needed to fit the incident and maintain its operational effectiveness\, while also providing an in-depth review of ICS fundamentals\, assessing incidents\, and setting objectives\, unified command\, resource management\, the planning process\, demobilization\, and transfer and termination of command in an incident. Participants will be facilitated to lead 4+ tabletop activities with consultations these tabletop scenarios may be created to use participant organization risk scenarios. \nSpecific Course Topics \n\nRoles and Responsibilities\nInitial response activities\nStaffing and organizing\nRelationships and interactions with staff and other stakeholders\nExecutive-level interactions\nCommand’s direction\nExercise Learning Components\nMeetings\, Briefings and Support Activities\nIAP Prep and Approval\nExecuting Plan and Assessing Progress\nExternal Coordination\nTransitioning and Demobilization\nUse of tabletop activities which may be customized to reinforce training objectives\n\n Target Audience \nResponders who may assume a supervisory role in expanding incidents or Type 3 incidents\, such as command staff\, section chiefs\, strike team leaders\, task force leaders\, unit leaders\, division/group supervisors\, branch directors\, and multi-agency coordination system/emergency operations centre staff.\nProgram administrators\, corporate leaders from moderate to high-risk organizations and workplaces. \nDuration \n2 ½ days (20 hours) \nPre-requisite \nSuccessful completion of ICS-200 \nPlease note: All our courses are set on eastern time zone\, which is Toronto time.
URL:https://esintl.ca/course/intermediate-incident-management-ics-i-300/
LOCATION:Virtual
CATEGORIES:ICS I-300: Intermediate ICS for Expanding Incidents,ICS Progressive Series of Courses
END:VEVENT
BEGIN:VEVENT
DTSTART;TZID=America/Toronto:20230605T080000
DTEND;TZID=America/Toronto:20230607T150000
DTSTAMP:20260421T065409
CREATED:20220215T143204Z
LAST-MODIFIED:20230323T141806Z
UID:10000035-1685952000-1686150000@esintl.ca
SUMMARY:Logistics Section Chief
DESCRIPTION:Building upon ICS foundation courses\, Logistics Section Chief is designed to provide government and private industry emergency management and response personnel with a robust understanding of the duties\, responsibilities\, and capabilities of an effective Logistics Section Chief on an Incident Management team. These responsibilities fall into two categories: \n\nResponding to the incident; and\nEffectively fulfilling the position responsibilities of a Logistics Section Chief on an ICS Incident Management Team.\n\n  \nThis course is an instructor-led training that supports learning through discussion\, lecture\, and active participation in multiple exercises that provides a realistic\, hands-on approach to mastering the skills required of a Logistics Section Chief. \nPlease Note: 75% of funding for the course fees as a rebate to support professional development and safety within organizations. Please contact contactus@esintl.ca or 1-506-333-2555 for more information\, restrictions apply. \nSpecific Course Topics \n\nRoles and Responsibilities of the Logistics Section\nInitial Response and Transition to On-going Operations\nCoordination and Interaction\nDetermining Logistical support and service requirements\nDeveloping a right size logistics organization\nProviding support to IMT customers\nIncident Resources\nResource Requesting and Ordering\nIncident Communications\nIncident Facilities\nInvolvement in meetings\, briefings\, and other support activities\nIAP Planning Process\nDemobilization\n\nTarget Audience\nResponders designated to fill the Type 2 Logistics Section Chief position \nDuration\n3 Days (24 hours) \nPre-requisite \nICS-300 \nNote: All our courses are set at eastern time zone\, which is Toronto time.
URL:https://esintl.ca/course/logistics-section-chief/
LOCATION:Union Club\, 125 Germain Street\, Saint John\, NB\, E2L 2E9\, Canada
CATEGORIES:ICS Canada – Planning Chief,ICS I-300: Intermediate ICS for Expanding Incidents,ICS Progressive Series of Courses,Logistics Section Chief
GEO:45.2717314;-66.060456
X-APPLE-STRUCTURED-LOCATION;VALUE=URI;X-ADDRESS=Union Club 125 Germain Street Saint John NB E2L 2E9 Canada;X-APPLE-RADIUS=500;X-TITLE=125 Germain Street:geo:-66.060456,45.2717314
END:VEVENT
BEGIN:VEVENT
DTSTART;TZID=America/Toronto:20230117T080000
DTEND;TZID=America/Toronto:20230119T150000
DTSTAMP:20260421T065409
CREATED:20220121T201240Z
LAST-MODIFIED:20221003T194600Z
UID:10000027-1673942400-1674140400@esintl.ca
SUMMARY:Intermediate Incident Management : ICS I-300
DESCRIPTION:ICS-300\, Intermediate Incident Management\, this 2½ day course defines the unique qualities of an expanding situation. This course is designed to enable personnel to operate efficiently using the Incident Command System in a supervisory role during expanding incidents. Expanding upon ICS-100 and ICS-200 curriculum\, this course ensures that responders understand the ICS concepts that allow an incident management organization to expand and contract as needed to fit the incident and maintain its operational effectiveness\, while also providing an in-depth review of ICS fundamentals\, assessing incidents\, and setting objectives\, unified command\, resource management\, the planning process\, demobilization\, and transfer and termination of command in an incident. Participants will be facilitated to lead 4+ tabletop activities with consultations these tabletop scenarios may be created to use participant organization risk scenarios. \nSpecific Course Topics \n\nRoles and Responsibilities\nInitial response activities\nStaffing and organizing\nRelationships and interactions with staff and other stakeholders\nExecutive-level interactions\nCommand’s direction\nExercise Learning Components\nMeetings\, Briefings and Support Activities\nIAP Prep and Approval\nExecuting Plan and Assessing Progress\nExternal Coordination\nTransitioning and Demobilization\nUse of tabletop activities which may be customized to reinforce training objectives\n\n Target Audience \nResponders who may assume a supervisory role in expanding incidents or Type 3 incidents\, such as command staff\, section chiefs\, strike team leaders\, task force leaders\, unit leaders\, division/group supervisors\, branch directors\, and multi-agency coordination system/emergency operations center staff.\nProgram administrators\, corporate leaders from moderate to high-risk organizations and workplaces. \nDuration \n2 ½ days (20 hours) \nPre-requisite \nSuccessful completion of ICS-200 \nPlease note: All our courses are set on eastern time zone\, which is Toronto time.
URL:https://esintl.ca/course/intermediate-incident-management-ics-300-2/
LOCATION:Virtual
CATEGORIES:ICS I-300: Intermediate ICS for Expanding Incidents
END:VEVENT
BEGIN:VEVENT
DTSTART;TZID=America/Toronto:20220914T080000
DTEND;TZID=America/Toronto:20220916T150000
DTSTAMP:20260421T065409
CREATED:20201218T021913Z
LAST-MODIFIED:20220913T144224Z
UID:10000042-1663142400-1663340400@esintl.ca
SUMMARY:Intermediate Incident Management : ICS I-300
DESCRIPTION:ICS-300\, Intermediate Incident Management\, this 2½ day course defines the unique qualities of an expanding situation. This course is designed to enable personnel to operate efficiently using the Incident Command System in a supervisory role during expanding incidents. Expanding upon ICS-100 and ICS-200 curriculum\, this course ensures that responders understand the ICS concepts that allow an incident management organization to expand and contract as needed to fit the incident and maintain its operational effectiveness\, while also providing an in-depth review of ICS fundamentals\, assessing incidents\, and setting objectives\, unified command\, resource management\, the planning process\, demobilization\, and transfer and termination of command in an incident. Participants will be facilitated to lead 4+ tabletop activities with consultations these tabletop scenarios may be created to use participant organization risk scenarios. \nSpecific Course Topics \n\nRoles and Responsibilities\nInitial response activities\nStaffing and organizing\nRelationships and interactions with staff and other stakeholders\nExecutive-level interactions\nCommand’s direction\nExercise Learning Components\nMeetings\, Briefings and Support Activities\nIAP Prep and Approval\nExecuting Plan and Assessing Progress\nExternal Coordination\nTransitioning and Demobilization\nUse of tabletop activities which may be customized to reinforce training objectives\n\n Target Audience \nResponders who may assume a supervisory role in expanding incidents or Type 3 incidents\, such as command staff\, section chiefs\, strike team leaders\, task force leaders\, unit leaders\, division/group supervisors\, branch directors\, and multi-agency coordination system/emergency operations center staff.\nProgram administrators\, corporate leaders from moderate to high-risk organizations and workplaces. \nDuration \n2 ½ days (20 hours) \nPre-requisite \nSuccessful completion of ICS-200 \nPlease note: All our courses are set on eastern time zone\, which is Toronto time. \n \n  \n 
URL:https://esintl.ca/course/ics-i-300-october-2022/
LOCATION:Virtual
CATEGORIES:ICS I-300: Intermediate ICS for Expanding Incidents,ICS Progressive Series of Courses
END:VEVENT
BEGIN:VEVENT
DTSTART;TZID=America/Toronto:20220712T080000
DTEND;TZID=America/Toronto:20220714T150000
DTSTAMP:20260421T065409
CREATED:20220121T193252Z
LAST-MODIFIED:20220711T122620Z
UID:10000023-1657612800-1657810800@esintl.ca
SUMMARY:Intermediate Incident Management : ICS I-300
DESCRIPTION:ICS-300\, Intermediate Incident Management\, this 2½ day course defines the unique qualities of an expanding situation. This course is designed to enable personnel to operate efficiently using the Incident Command System in a supervisory role during expanding incidents. Expanding upon ICS-100 and ICS-200 curriculum\, this course ensures that responders understand the ICS concepts that allow an incident management organization to expand and contract as needed to fit the incident and maintain its operational effectiveness. While also providing an in-depth review of ICS fundamentals\, assessing incidents\, and setting objectives\, unified command\, resource management\, the planning process\, demobilization\, and transfer and termination of command in an incident. Participants will be facilitated to lead 4+ tabletop activities with consultations these tabletop scenarios may be created to use participant organization risk scenarios. \nSpecific Course Topics \n\nRoles and Responsibilities\nInitial response activities\nStaffing and organizing\nRelationships and interactions with staff and other stakeholders\nExecutive-level interactions\nCommand’s direction\nExercise Learning Components\nMeetings\, Briefings and Support Activities\nIAP Prep and Approval\nExecuting Plan and Assessing Progress\nExternal Coordination\nTransitioning and Demobilization\nUse of tabletop activities which may be customized to reinforce training objectives\n\n Target Audience \nResponders who may assume a supervisory role in expanding incidents or Type 3 incidents\, such as command staff\, section chiefs\, strike team leaders\, task force leaders\, unit leaders\, division/group supervisors\, branch directors\, and multi-agency coordination system/emergency operations center staff.\nProgram administrators\, corporate leaders from moderate to high-risk organizations and workplaces. \nDuration \n2 ½ days (20 hours) \nPre-requisite \nSuccessful completion of ICS-200 \nPlease note: All our courses are set on eastern time zone\, which is Toronto time.
URL:https://esintl.ca/course/intermediate-incident-management-ics-300/
LOCATION:Virtual
CATEGORIES:ICS I-300: Intermediate ICS for Expanding Incidents
END:VEVENT
BEGIN:VEVENT
DTSTART;TZID=America/Toronto:20220615T080000
DTEND;TZID=America/Toronto:20220616T150000
DTSTAMP:20260421T065409
CREATED:20210608T134619Z
LAST-MODIFIED:20220519T200809Z
UID:10000020-1655280000-1655391600@esintl.ca
SUMMARY:Advanced Incident Management: ICS I-400
DESCRIPTION:ICS-400\, Advanced Incident Management training and certificate for senior personnel and responders who are expected to perform in a management role in a complex incident environment rather than tactical. Expanding upon information covered in ICS-100 through ICS-300 courses\, ICS-400 emphasizes large-scale organizational development\, roles and relationships of the command and general staff\, and planning\, operational\, logistical\, and fiscal considerations related to large and complex incident and event management. The course also describes the application of Area Command and the importance of interagency coordination on complex incidents and events. Course participants will be better prepared to function as a supervisor in a larger incident or as a member of a Type 1 Incident Management Team. This advanced course also uses risk-based scenario tabletop activities to apply the curriculum. Custom scenarios may be developed for groups from a single organization. \nSpecific Course Topics \n\nFundamentals review for Command and General Staff\nMajor and/or Complex Incident/Event Management\nArea Command\nMultiagency Coordination (MAC)\n\n Target Audience \nResponders who will serve as Command or General Staff in an ICS organization\, select department heads with multi-agency coordination system responsibilities\, area commanders\, emergency managers\, and multi-agency coordination system/emergency operations center managers for expanding or Type 1 & 2 incidents. Community leader who have interoperability or Program responsibilities. \nDuration \nTwo days (16 hours)  \n Pre-requisite \nSuccessful completion of ICS-300  \nApplication of ICS 300 within your organization \nPlease note: All our courses are set according to eastern time zone\, which is Toronto time.
URL:https://esintl.ca/course/ics-i-400-ics-for-command-general-staff-and-complex-incidents/
LOCATION:Virtual
CATEGORIES:ICS I-300: Intermediate ICS for Expanding Incidents,ICS I-400: Advanced Incident Command System,ICS Progressive Series of Courses
END:VEVENT
END:VCALENDAR