BEGIN:VCALENDAR
VERSION:2.0
PRODID:-//Emergency Solutions International - ECPv6.15.20//NONSGML v1.0//EN
CALSCALE:GREGORIAN
METHOD:PUBLISH
X-WR-CALNAME:Emergency Solutions International
X-ORIGINAL-URL:https://esintl.ca
X-WR-CALDESC:Events for Emergency Solutions International
REFRESH-INTERVAL;VALUE=DURATION:PT1H
X-Robots-Tag:noindex
X-PUBLISHED-TTL:PT1H
BEGIN:VTIMEZONE
TZID:America/Halifax
BEGIN:DAYLIGHT
TZOFFSETFROM:-0400
TZOFFSETTO:-0300
TZNAME:ADT
DTSTART:20230312T060000
END:DAYLIGHT
BEGIN:STANDARD
TZOFFSETFROM:-0300
TZOFFSETTO:-0400
TZNAME:AST
DTSTART:20231105T050000
END:STANDARD
BEGIN:DAYLIGHT
TZOFFSETFROM:-0400
TZOFFSETTO:-0300
TZNAME:ADT
DTSTART:20240310T060000
END:DAYLIGHT
BEGIN:STANDARD
TZOFFSETFROM:-0300
TZOFFSETTO:-0400
TZNAME:AST
DTSTART:20241103T050000
END:STANDARD
BEGIN:DAYLIGHT
TZOFFSETFROM:-0400
TZOFFSETTO:-0300
TZNAME:ADT
DTSTART:20250309T060000
END:DAYLIGHT
BEGIN:STANDARD
TZOFFSETFROM:-0300
TZOFFSETTO:-0400
TZNAME:AST
DTSTART:20251102T050000
END:STANDARD
BEGIN:DAYLIGHT
TZOFFSETFROM:-0400
TZOFFSETTO:-0300
TZNAME:ADT
DTSTART:20260308T060000
END:DAYLIGHT
BEGIN:STANDARD
TZOFFSETFROM:-0300
TZOFFSETTO:-0400
TZNAME:AST
DTSTART:20261101T050000
END:STANDARD
BEGIN:DAYLIGHT
TZOFFSETFROM:-0400
TZOFFSETTO:-0300
TZNAME:ADT
DTSTART:20270314T060000
END:DAYLIGHT
BEGIN:STANDARD
TZOFFSETFROM:-0300
TZOFFSETTO:-0400
TZNAME:AST
DTSTART:20271107T050000
END:STANDARD
END:VTIMEZONE
BEGIN:VEVENT
DTSTART;TZID=America/Halifax:20241114T090000
DTEND;TZID=America/Halifax:20241115T170000
DTSTAMP:20260425T074225
CREATED:20231228T182158Z
LAST-MODIFIED:20241112T143059Z
UID:10000054-1731574800-1731690000@esintl.ca
SUMMARY:Advanced Incident Management: ICS I-400
DESCRIPTION:ICS-400\, Advanced Incident Management training and certificate for senior personnel and responders who are expected to perform in a management role in a complex incident environment rather than tactical. Expanding upon information covered in ICS-100 through ICS-300 courses\, ICS-400 emphasizes large-scale organizational development\, roles and relationships of the command and general staff\, and planning\, operational\, logistical\, and fiscal considerations related to large and complex incident and event management. The course also describes the application of Area Command and the importance of interagency coordination on complex incidents and events. Course participants will be better prepared to function as a supervisor in a larger incident or as a member of a Type 1 Incident Management Team. This advanced course also uses risk-based scenario tabletop activities to apply the curriculum. Custom scenarios may be developed for groups from a single organization. \nSpecific Course Topics \n\nFundamentals review for Command and General Staff\nMajor and/or Complex Incident/Event Management\nArea Command\nMultiagency Coordination (MAC)\n\n Target Audience \nResponders who will serve as Command or General Staff in an ICS organization\, select department heads with multi-agency coordination system responsibilities\, area commanders\, emergency managers\, and multi-agency coordination system/emergency operations center managers for expanding or Type 1 & 2 incidents. Community leader who have interoperability or Program responsibilities. \nDuration \nTwo days (16 hours)  \n Pre-requisite \nSuccessful completion of ICS-300  \nApplication of ICS 300 within your organization
URL:https://esintl.ca/course/advanced-incident-management-ics-i-400-3/
LOCATION:Virtual
CATEGORIES:ICS I-400: Advanced Incident Command System
END:VEVENT
BEGIN:VEVENT
DTSTART;TZID=America/Halifax:20241129T090000
DTEND;TZID=America/Halifax:20241129T120000
DTSTAMP:20260425T074225
CREATED:20240102T144844Z
LAST-MODIFIED:20241112T143003Z
UID:10000059-1732870800-1732881600@esintl.ca
SUMMARY:Building Manager Fire Safety
DESCRIPTION:Building owners are legally required and responsible for the fire safety of their properties. ESI’s Building Manager Fire Safety training offers essential fire and life safety knowledge that will give students the confidence to perform a fire safety self-assessment on specific buildings for which they are responsible. Routine fire prevention assessment is an inexpensive form of preventative maintenance that is a sound asset protection strategy. This will effectively increase tenant safety\, protect the investment\, and decrease building owners’ liability. \n  \nA well-designed fire safety plan will not only meet\, or exceed\, the prescriptive requirements of whatever act\, code\, ordinance/by-law\, or industry standard regulations that you are duty bound to follow – it will also act as an opportunity to conduct risk assessments\, take action to prevent\, limit\, or minimize the aftereffects of damages due to a fire-type event. Furthermore\, a well-designed fire safety plan can also formulate part of an overall evacuation plan for any number of scenarios that can be foreseen as risk to your building(s).   Lastly\, a sophisticated fire safety plan is a great jumping off point for reviewing safety procedures and developing a business continuing program in the case of an emergency situation. \n  \nSpecific Course Topics \n\nIntroduction and course outline\nTerms and terminologies\nWho should and should not be a fire/floor warden\nReview of the current fire safety plan\nTools required to be a fire/floor warden\nConducting drills/frequency of the same\nWhat to do upon discovery of an incident (fire or otherwise)\nWhat to do after the fire alarm activates (internal to the building)\nProcedures to follow once outside or in a fire safe compartment\nDebriefings after an incident or a drill\nUpdating the Fire Safety Plan/frequency of the same\n\nTarget Audience  \n\nFloor/Fire Wardens\nChief or Deputy Chief Fire Wardens (who have additional responsibility including preventive inspection\, meetings\, and overall creation of the fire safety plan and its implementation)\nBuilding owners/managers\n\nDuration \n3 Hours \nPrerequisite \nInstructors would like to receive the current fire safety plan of participants’ buildings. This will allow instructors to discuss your specific plan\, making the course more meaningful to you. It is expected that each participant will read and understand their plan prior to attending the course.
URL:https://esintl.ca/course/building-manager-fire-safety-4/
LOCATION:Virtual
CATEGORIES:Building Manager Fire Safety Training,ICS Progressive Series of Courses
END:VEVENT
BEGIN:VEVENT
DTSTART;TZID=America/Halifax:20250729T080000
DTEND;TZID=America/Halifax:20250729T120000
DTSTAMP:20260425T074225
CREATED:20231228T182921Z
LAST-MODIFIED:20250708T152703Z
UID:10000055-1753776000-1753790400@esintl.ca
SUMMARY:Incident Command System for Executives: ICS I-402
DESCRIPTION:ICS-402\, Incident Command for Executives\, Administrators and Policy Makers\, a half-day course that introduces and provides the foundation for executive understanding and participation in the Incident Command System. This course is valuable to leaders in organizations who have the responsibility of refining or evaluating security\, emergency management or business continuity documentation. ESI offers this course as an in-person\, real-time virtual\, and virtual course to suit your organization. Complete this course as a group or at your own pace. To buy this course please click on the link: https://emergency-solutions-international.mykajabi.com/offers/YxoCFJr7/checkout \n  \nSpecific Course Topics \n\nBasic concepts\, organization\, and terminology of Incident Command System (ICS)\nICS applications\nRole of an Executive/Senior Official relative to the ICS\nMajor responsibilities of an Executive/Senior Official as related to an incident\nFunctional responsibilities of the Command and General Staff\nIssues that influence incident complexity and the tools available to analyze complexity\nDifferences between on-incident ICS organizations and activities and the activities accomplished by Emergency Operations Centers (EOCs)\, Area Command\, and Multi-Agency Coordination Systems (MACS)\nTypes of agency(ies)\, policies and guidelines that influence management of incident or event activities\n\n  \n Target Audience \nExecutives and Senior Officials (including elected officials\, city/county managers\, agency administrators\, etc.) who establish or implement policy\, but who are normally not part of the on-scene ICS organization.\nEmergency Management leaders\, Business Consultants\, Cyber Security Program leaders or Safety Program leaders. \nDuration \nOne-half day (4 hours)   \n Pre-requisite \nNone
URL:https://esintl.ca/course/incident-command-system-for-executives-ics-i-402-2/
LOCATION:Private Event
CATEGORIES:ICS I-402, Incident Command System for Executives
END:VEVENT
BEGIN:VEVENT
DTSTART;VALUE=DATE:20260512
DTEND;VALUE=DATE:20260513
DTSTAMP:20260425T074225
CREATED:20260408T132355Z
LAST-MODIFIED:20260408T132355Z
UID:10000071-1778544000-1778630399@esintl.ca
SUMMARY:Introduction to the Incident Command System: ICS I-100 - Private Session
DESCRIPTION:ICS-100\, Introduction to the Incident Command System\, this is a one-day certificate course that introduces the Incident Command System (ICS) and provides the foundation for higher level ICS training. This course describes the history\, features and principles\, and organizational structure of the Incident Command System. ESI offers this course as an in-person\, real-time virtual or virtual course to accommodate your organizational needs. Complete this course as a group or at your own pace. To buy this course click on the link: https://emergency-solutions-international.mykajabi.com/offers/hFjFWFeA/checkout \n  \nSpecific Course Topics \n\nICS applications\nICS organizational principles and elements\nICS positions and responsibilities\nICS facilities and functions\nICS planning\n\n  \nTarget Audience \nAny personnel involved with emergency planning\, response\, or recovery efforts.\nIndividuals who aspire to a career as a responder or a planner. \nDuration \nOne day (8 hours) \nPre-requisite \nNone \n \nPlease Note: All our courses are set according to Atlantic Daylight Time (ADT)
URL:https://esintl.ca/course/introduction-to-the-incident-command-system-ics-i-100-private-session/
LOCATION:Private Event
CATEGORIES:ICS I-100: Introduction to the Incident Command System,ICS Progressive Series of Courses
END:VEVENT
END:VCALENDAR