BEGIN:VCALENDAR
VERSION:2.0
PRODID:-//Emergency Solutions International - ECPv6.15.20//NONSGML v1.0//EN
CALSCALE:GREGORIAN
METHOD:PUBLISH
X-WR-CALNAME:Emergency Solutions International
X-ORIGINAL-URL:https://esintl.ca
X-WR-CALDESC:Events for Emergency Solutions International
REFRESH-INTERVAL;VALUE=DURATION:PT1H
X-Robots-Tag:noindex
X-PUBLISHED-TTL:PT1H
BEGIN:VTIMEZONE
TZID:America/Toronto
BEGIN:DAYLIGHT
TZOFFSETFROM:-0500
TZOFFSETTO:-0400
TZNAME:EDT
DTSTART:20210314T070000
END:DAYLIGHT
BEGIN:STANDARD
TZOFFSETFROM:-0400
TZOFFSETTO:-0500
TZNAME:EST
DTSTART:20211107T060000
END:STANDARD
BEGIN:DAYLIGHT
TZOFFSETFROM:-0500
TZOFFSETTO:-0400
TZNAME:EDT
DTSTART:20220313T070000
END:DAYLIGHT
BEGIN:STANDARD
TZOFFSETFROM:-0400
TZOFFSETTO:-0500
TZNAME:EST
DTSTART:20221106T060000
END:STANDARD
BEGIN:DAYLIGHT
TZOFFSETFROM:-0500
TZOFFSETTO:-0400
TZNAME:EDT
DTSTART:20230312T070000
END:DAYLIGHT
BEGIN:STANDARD
TZOFFSETFROM:-0400
TZOFFSETTO:-0500
TZNAME:EST
DTSTART:20231105T060000
END:STANDARD
END:VTIMEZONE
BEGIN:VTIMEZONE
TZID:America/Halifax
BEGIN:DAYLIGHT
TZOFFSETFROM:-0400
TZOFFSETTO:-0300
TZNAME:ADT
DTSTART:20210314T060000
END:DAYLIGHT
BEGIN:STANDARD
TZOFFSETFROM:-0300
TZOFFSETTO:-0400
TZNAME:AST
DTSTART:20211107T050000
END:STANDARD
BEGIN:DAYLIGHT
TZOFFSETFROM:-0400
TZOFFSETTO:-0300
TZNAME:ADT
DTSTART:20220313T060000
END:DAYLIGHT
BEGIN:STANDARD
TZOFFSETFROM:-0300
TZOFFSETTO:-0400
TZNAME:AST
DTSTART:20221106T050000
END:STANDARD
BEGIN:DAYLIGHT
TZOFFSETFROM:-0400
TZOFFSETTO:-0300
TZNAME:ADT
DTSTART:20230312T060000
END:DAYLIGHT
BEGIN:STANDARD
TZOFFSETFROM:-0300
TZOFFSETTO:-0400
TZNAME:AST
DTSTART:20231105T050000
END:STANDARD
END:VTIMEZONE
BEGIN:VEVENT
DTSTART;TZID=America/Toronto:20220901T080000
DTEND;TZID=America/Toronto:20220902T150000
DTSTAMP:20260419T193040
CREATED:20201218T024935Z
LAST-MODIFIED:20220822T160132Z
UID:10000039-1662019200-1662130800@esintl.ca
SUMMARY:Basic Incident Command System: ICS I-200
DESCRIPTION:ICS-200\, Basic Incident Command System for Initial Response\, reviews the Incident Command System (ICS)\, provides the context for ICS within initial response\, and supports higher level ICS training. This two-day course provides training on\, and resources for\, personnel who are likely to assume a supervisory position within their organization using the Incident Command System. A number of tabletop activities assists participants to understand and apply the course curriculum.  At the completion of this course\, you will be able to: apply the 14 ICS principles to response situations\, understand Principles of Leadership\, set objectives to set up an Incident Action Plan\, organize a response organization based upon objectives\, and initiate Command\, Unified Command and Transfer of Command. This course is essential for response personnel at the supervisory level who are involved with emergency planning\, response\, or recovery efforts. \n  \nSpecific Course Topics \n\nLeadership & Management\nDelegation of Authority & Management by Objectives\nFunctional Areas & Positions\nBriefings\nOrganizational Flexibility\nTransfer of Command\n\n  \nTarget Audience \nResponse personnel at the supervisory level.\nProgram Managers and Training Staff.\nCorporation Representatives from moderate to high risk workplaces. \nDuration \nTwo days (16 hours) \nPre-requisite  \nSuccessful completion of ICS-100 \nPlease note: All our courses are set according to eastern time zone\, which is Toronto time.
URL:https://esintl.ca/course/ics-basic-ics-i-200-sept-2022/
LOCATION:Virtual
CATEGORIES:ICS I-200: Basic ICS for Single Resources and Initial Action Incidents,ICS Progressive Series of Courses
END:VEVENT
BEGIN:VEVENT
DTSTART;TZID=America/Toronto:20220712T080000
DTEND;TZID=America/Toronto:20220714T150000
DTSTAMP:20260419T193040
CREATED:20220121T193252Z
LAST-MODIFIED:20220711T122620Z
UID:10000023-1657612800-1657810800@esintl.ca
SUMMARY:Intermediate Incident Management : ICS I-300
DESCRIPTION:ICS-300\, Intermediate Incident Management\, this 2½ day course defines the unique qualities of an expanding situation. This course is designed to enable personnel to operate efficiently using the Incident Command System in a supervisory role during expanding incidents. Expanding upon ICS-100 and ICS-200 curriculum\, this course ensures that responders understand the ICS concepts that allow an incident management organization to expand and contract as needed to fit the incident and maintain its operational effectiveness. While also providing an in-depth review of ICS fundamentals\, assessing incidents\, and setting objectives\, unified command\, resource management\, the planning process\, demobilization\, and transfer and termination of command in an incident. Participants will be facilitated to lead 4+ tabletop activities with consultations these tabletop scenarios may be created to use participant organization risk scenarios. \nSpecific Course Topics \n\nRoles and Responsibilities\nInitial response activities\nStaffing and organizing\nRelationships and interactions with staff and other stakeholders\nExecutive-level interactions\nCommand’s direction\nExercise Learning Components\nMeetings\, Briefings and Support Activities\nIAP Prep and Approval\nExecuting Plan and Assessing Progress\nExternal Coordination\nTransitioning and Demobilization\nUse of tabletop activities which may be customized to reinforce training objectives\n\n Target Audience \nResponders who may assume a supervisory role in expanding incidents or Type 3 incidents\, such as command staff\, section chiefs\, strike team leaders\, task force leaders\, unit leaders\, division/group supervisors\, branch directors\, and multi-agency coordination system/emergency operations center staff.\nProgram administrators\, corporate leaders from moderate to high-risk organizations and workplaces. \nDuration \n2 ½ days (20 hours) \nPre-requisite \nSuccessful completion of ICS-200 \nPlease note: All our courses are set on eastern time zone\, which is Toronto time.
URL:https://esintl.ca/course/intermediate-incident-management-ics-300/
LOCATION:Virtual
CATEGORIES:ICS I-300: Intermediate ICS for Expanding Incidents
END:VEVENT
BEGIN:VEVENT
DTSTART;TZID=America/Toronto:20220615T080000
DTEND;TZID=America/Toronto:20220616T150000
DTSTAMP:20260419T193040
CREATED:20210608T134619Z
LAST-MODIFIED:20220519T200809Z
UID:10000020-1655280000-1655391600@esintl.ca
SUMMARY:Advanced Incident Management: ICS I-400
DESCRIPTION:ICS-400\, Advanced Incident Management training and certificate for senior personnel and responders who are expected to perform in a management role in a complex incident environment rather than tactical. Expanding upon information covered in ICS-100 through ICS-300 courses\, ICS-400 emphasizes large-scale organizational development\, roles and relationships of the command and general staff\, and planning\, operational\, logistical\, and fiscal considerations related to large and complex incident and event management. The course also describes the application of Area Command and the importance of interagency coordination on complex incidents and events. Course participants will be better prepared to function as a supervisor in a larger incident or as a member of a Type 1 Incident Management Team. This advanced course also uses risk-based scenario tabletop activities to apply the curriculum. Custom scenarios may be developed for groups from a single organization. \nSpecific Course Topics \n\nFundamentals review for Command and General Staff\nMajor and/or Complex Incident/Event Management\nArea Command\nMultiagency Coordination (MAC)\n\n Target Audience \nResponders who will serve as Command or General Staff in an ICS organization\, select department heads with multi-agency coordination system responsibilities\, area commanders\, emergency managers\, and multi-agency coordination system/emergency operations center managers for expanding or Type 1 & 2 incidents. Community leader who have interoperability or Program responsibilities. \nDuration \nTwo days (16 hours)  \n Pre-requisite \nSuccessful completion of ICS-300  \nApplication of ICS 300 within your organization \nPlease note: All our courses are set according to eastern time zone\, which is Toronto time.
URL:https://esintl.ca/course/ics-i-400-ics-for-command-general-staff-and-complex-incidents/
LOCATION:Virtual
CATEGORIES:ICS I-300: Intermediate ICS for Expanding Incidents,ICS I-400: Advanced Incident Command System,ICS Progressive Series of Courses
END:VEVENT
BEGIN:VEVENT
DTSTART;TZID=America/Halifax:20220517T080000
DTEND;TZID=America/Halifax:20220517T170000
DTSTAMP:20260419T193040
CREATED:20220427T131302Z
LAST-MODIFIED:20220427T131302Z
UID:10000018-1652774400-1652806800@esintl.ca
SUMMARY:Introduction to the Incident Command System: ICS I-100 (Closed Event for Utopia Paper)
DESCRIPTION:ICS-100\, Introduction to the Incident Command System\, this is a one-day certificate course that introduces the Incident Command System (ICS) and provides the foundation for higher level ICS training. This course describes the history\, features and principles\, and organizational structure of the Incident Command System. ESI offers this course as an in-person\, real-time virtual or virtual course to accommodate your organizational needs. Complete this course as a group or at your own pace. To buy this course click on the link: https://emergency-solutions-international.mykajabi.com/offers/hFjFWFeA/checkout \n  \nSpecific Course Topics \n\nICS applications\nICS organizational principles and elements\nICS positions and responsibilities\nICS facilities and functions\nICS planning\n\n  \nTarget Audience \nAny personnel involved with emergency planning\, response\, or recovery efforts.\nIndividuals who aspire to a career as a responder or a planner. \nDuration \nOne day (8 hours) \nPre-requisite \nNone \n \nPlease Note: All our courses are set according to Eastern Time Zone\, i.e. Toronto Time.
URL:https://esintl.ca/course/introduction-to-the-incident-command-system-ics-i-100-closed-event-for-utopia-paper-2/
CATEGORIES:ICS I-100: Introduction to the Incident Command System,ICS Progressive Series of Courses
END:VEVENT
BEGIN:VEVENT
DTSTART;TZID=America/Halifax:20220505T080000
DTEND;TZID=America/Halifax:20220505T170000
DTSTAMP:20260419T193040
CREATED:20220427T130904Z
LAST-MODIFIED:20220427T130904Z
UID:10000017-1651737600-1651770000@esintl.ca
SUMMARY:Introduction to the Incident Command System: ICS I-100 (Closed Event for Utopia Paper)
DESCRIPTION:ICS-100\, Introduction to the Incident Command System\, this is a one-day certificate course that introduces the Incident Command System (ICS) and provides the foundation for higher level ICS training. This course describes the history\, features and principles\, and organizational structure of the Incident Command System. ESI offers this course as an in-person\, real-time virtual or virtual course to accommodate your organizational needs. Complete this course as a group or at your own pace. To buy this course click on the link: https://emergency-solutions-international.mykajabi.com/offers/hFjFWFeA/checkout \nSpecific Course Topics \n\nICS applications\nICS organizational principles and elements\nICS positions and responsibilities\nICS facilities and functions\nICS planning\n\n  \nTarget Audience \nAny personnel involved with emergency planning\, response\, or recovery efforts.\nIndividuals who aspire to a career as a responder or a planner. \nDuration \nOne day (8 hours) \nPre-requisite \nNone \n \nPlease Note: All our courses are set according to Eastern Time Zone\, i.e. Toronto Time.
URL:https://esintl.ca/course/introduction-to-the-incident-command-system-ics-i-100-closed-event-for-utopia-paper/
CATEGORIES:ICS I-100: Introduction to the Incident Command System
END:VEVENT
BEGIN:VEVENT
DTSTART;TZID=America/Toronto:20220201T080000
DTEND;TZID=America/Toronto:20220201T150000
DTSTAMP:20260419T193040
CREATED:20201218T023206Z
LAST-MODIFIED:20220125T132115Z
UID:10000001-1643702400-1643727600@esintl.ca
SUMMARY:Introduction to the Incident Command System: ICS-100
DESCRIPTION:ICS-100\, Introduction to the Incident Command System\, this is a one-day certificate course that introduces the Incident Command System (ICS) and provides the foundation for higher level ICS training. This course describes the history\, features and principles\, and organizational structure of the Incident Command System. ESI offers this course as an in-person\, real-time virtual or virtual course to accommodate your organizational needs. Complete this course as a group or at your own pace. To buy this course click on the link: https://emergency-solutions-international.mykajabi.com/offers/hFjFWFeA/checkout \n  \nSpecific Course Topics \n\nICS applications\nICS organizational principles and elements\nICS positions and responsibilities\nICS facilities and functions\nICS planning\n\n  \nTarget Audience \nAny personnel involved with emergency planning\, response\, or recovery efforts.\nIndividuals who aspire to a career as a responder or a planner. \nDuration \nOne day (8 hours) \nPre-requisite  \nNone \nNote: All our courses are set according to eastern time zone\, that is Toronto time. 
URL:https://esintl.ca/course/ics-i-100-oct-2021/
LOCATION:Virtual
CATEGORIES:ICS I-100: Introduction to the Incident Command System,ICS Progressive Series of Courses
END:VEVENT
BEGIN:VEVENT
DTSTART;TZID=America/Halifax:20220126T090000
DTEND;TZID=America/Halifax:20220126T160000
DTSTAMP:20260419T193040
CREATED:20201218T021646Z
LAST-MODIFIED:20220125T131951Z
UID:10000041-1643187600-1643212800@esintl.ca
SUMMARY:Introduction to the Incident Command System: ICS-100 (Closed course for Buctouche First Nation)
DESCRIPTION:ICS-100\, Introduction to the Incident Command System\, this is a one-day certificate course that introduces the Incident Command System (ICS) and provides the foundation for higher level ICS training. This course describes the history\, features and principles\, and organizational structure of the Incident Command System. ESI offers this course as an in-person\, real-time virtual or virtual course to accommodate your organizational needs. Complete this course as a group or at your own pace. To buy this course click on the link: https://emergency-solutions-international.mykajabi.com/offers/hFjFWFeA/checkout \n  \nSpecific Course Topics \n\nICS applications\nICS organizational principles and elements\nICS positions and responsibilities\nICS facilities and functions\nICS planning\n\n  \nTarget Audience \nAny personnel involved with emergency planning\, response\, or recovery efforts.\nIndividuals who aspire to a career as a responder or a planner. \nDuration \nOne day (8 hours) \nPre-requisite  \nNone \n 
URL:https://esintl.ca/course/ics-introduction-to-the-incident-command-system-i-100-jan-2022/
LOCATION:Virtual
CATEGORIES:ICS I-100: Introduction to the Incident Command System,ICS Progressive Series of Courses
END:VEVENT
BEGIN:VEVENT
DTSTART;TZID=America/Halifax:20220120T110000
DTEND;TZID=America/Halifax:20220121T180000
DTSTAMP:20260419T193040
CREATED:20211222T185734Z
LAST-MODIFIED:20220117T161425Z
UID:10000019-1642676400-1642788000@esintl.ca
SUMMARY:Advanced Incident Management- ICS-400: (Closed Session for Grand Council Treaty 3 and IFNA)
DESCRIPTION:ICS-400\, Advanced Incident Management training and certificate for senior personnel and responders who are expected to perform in a management role in a complex incident environment rather than tactical. Expanding upon information covered in ICS-100 through ICS-300 courses\, ICS-400 emphasizes large-scale organizational development\, roles and relationships of the command and general staff\, and planning\, operational\, logistical\, and fiscal considerations related to large and complex incident and event management. The course also describes the application of Area Command and the importance of interagency coordination on complex incidents and events. Course participants will be better prepared to function as a supervisor in a larger incident or as a member of a Type 1 Incident Management Team. This advanced course also uses risk-based scenario tabletop activities to apply the curriculum. Custom scenarios may be developed for groups from a single organization. \n  \nSpecific Course Topics \n\nFundamentals review for Command and General Staff\nMajor and/or Complex Incident/Event Management\nArea Command\nMultiagency Coordination (MAC)\n\n  \nTarget Audience \nResponders who will serve as Command or General Staff in an ICS organization\, select department heads with multi-agency coordination system responsibilities\, area commanders\, emergency managers\, and multi-agency coordination system/emergency operations center managers for expanding or Type 1 & 2 incidents. Community leader who have interoperability or Program responsibilities. \nDuration \nTwo days (16 hours)  \n \n  \nPre-requisite \nSuccessful completion of ICS-300  \nApplication of ICS 300 within your organization \n  \n 
URL:https://esintl.ca/course/ics-i-400-advanced-ics-grand-council-treaty-3-and-ifna-closed-session/
LOCATION:Virtual
CATEGORIES:ICS I-400: Advanced Incident Command System,ICS Progressive Series of Courses
ORGANIZER;CN="ICS I-400":MAILTO:contactus@esintl.ca
END:VEVENT
END:VCALENDAR