BEGIN:VCALENDAR
VERSION:2.0
PRODID:-//Emergency Solutions International - ECPv6.15.20//NONSGML v1.0//EN
CALSCALE:GREGORIAN
METHOD:PUBLISH
X-ORIGINAL-URL:https://esintl.ca
X-WR-CALDESC:Events for Emergency Solutions International
REFRESH-INTERVAL;VALUE=DURATION:PT1H
X-Robots-Tag:noindex
X-PUBLISHED-TTL:PT1H
BEGIN:VTIMEZONE
TZID:America/Toronto
BEGIN:DAYLIGHT
TZOFFSETFROM:-0500
TZOFFSETTO:-0400
TZNAME:EDT
DTSTART:20220313T070000
END:DAYLIGHT
BEGIN:STANDARD
TZOFFSETFROM:-0400
TZOFFSETTO:-0500
TZNAME:EST
DTSTART:20221106T060000
END:STANDARD
BEGIN:DAYLIGHT
TZOFFSETFROM:-0500
TZOFFSETTO:-0400
TZNAME:EDT
DTSTART:20230312T070000
END:DAYLIGHT
BEGIN:STANDARD
TZOFFSETFROM:-0400
TZOFFSETTO:-0500
TZNAME:EST
DTSTART:20231105T060000
END:STANDARD
BEGIN:DAYLIGHT
TZOFFSETFROM:-0500
TZOFFSETTO:-0400
TZNAME:EDT
DTSTART:20240310T070000
END:DAYLIGHT
BEGIN:STANDARD
TZOFFSETFROM:-0400
TZOFFSETTO:-0500
TZNAME:EST
DTSTART:20241103T060000
END:STANDARD
END:VTIMEZONE
BEGIN:VEVENT
DTSTART;VALUE=DATE:20231205
DTEND;VALUE=DATE:20231209
DTSTAMP:20260421T140500
CREATED:20220215T145556Z
LAST-MODIFIED:20220704T162923Z
UID:10000036-1701734400-1702079999@esintl.ca
SUMMARY:Safety Officer
DESCRIPTION:Building upon ICS foundational courses\, the Safety Officer course provides government and private industry emergency responders with a robust understanding of the duties\, responsibilities\, and capabilities of an effective Safety Officer (SOFR) on an Incident Management Team (IMT). These responsibilities fall into two categories: \n\nResponding to the incident and the safety needs of the incident\, and\nEffectively fulfilling the position responsibilities of a Safety Officer on an Incident Management Team.\n\nThis course is an instructor-led training that supports learning through discussion\, lecture\, and active participation in multiple exercises that provides a realistic\, hands-on approach to mastering the skills required of a Safety Officer. \nPlease Note: 75% of funding for the course fees as a rebate to support professional development and safety within organizations. Please contact contactus@esintl.ca or 1-506-333-2555 for more information\, restrictions apply. \n  \nSpecific Course Topics\n \n\nRoles and responsibilities of the position and assistants\nActions required upon arriving at an incident\nRelationships with other IMT staff\nEstablishing safety systems and supporting organization\nBest practices\nSafety plans\nSupporting the Incident Action Plan development process\nRequirements for documentation\nRisk Hazard Analysis and other forms\nMeetings\, briefings\, and support activities\nSafety Officer role in demobilization\nSafety Officer role in ensuring safe incident facilities\n\n  \nTarget Audience \nResponders subject to filling the ICS Safety Officer position \nDuration\n3 days (24 hours) \n  \nPre-requisite \nICS-300 \nNote: All our courses are set according to the eastern time zone\, which is Toronto time. 
URL:https://esintl.ca/course/safety-officer/
LOCATION:Union Club\, 125 Germain Street\, Saint John\, NB\, E2L 2E9\, Canada
CATEGORIES:ICS Canada - Safety Officer,ICS Progressive Series of Courses
GEO:45.271738;-66.060456
X-APPLE-STRUCTURED-LOCATION;VALUE=URI;X-ADDRESS=Union Club 125 Germain Street Saint John NB E2L 2E9 Canada;X-APPLE-RADIUS=500;X-TITLE=125 Germain Street:geo:-66.060456,45.271738
END:VEVENT
END:VCALENDAR