BEGIN:VCALENDAR
VERSION:2.0
PRODID:-//Emergency Solutions International - ECPv6.15.20//NONSGML v1.0//EN
CALSCALE:GREGORIAN
METHOD:PUBLISH
X-ORIGINAL-URL:https://esintl.ca
X-WR-CALDESC:Events for Emergency Solutions International
REFRESH-INTERVAL;VALUE=DURATION:PT1H
X-Robots-Tag:noindex
X-PUBLISHED-TTL:PT1H
BEGIN:VTIMEZONE
TZID:America/Toronto
BEGIN:DAYLIGHT
TZOFFSETFROM:-0500
TZOFFSETTO:-0400
TZNAME:EDT
DTSTART:20210314T070000
END:DAYLIGHT
BEGIN:STANDARD
TZOFFSETFROM:-0400
TZOFFSETTO:-0500
TZNAME:EST
DTSTART:20211107T060000
END:STANDARD
BEGIN:DAYLIGHT
TZOFFSETFROM:-0500
TZOFFSETTO:-0400
TZNAME:EDT
DTSTART:20220313T070000
END:DAYLIGHT
BEGIN:STANDARD
TZOFFSETFROM:-0400
TZOFFSETTO:-0500
TZNAME:EST
DTSTART:20221106T060000
END:STANDARD
BEGIN:DAYLIGHT
TZOFFSETFROM:-0500
TZOFFSETTO:-0400
TZNAME:EDT
DTSTART:20230312T070000
END:DAYLIGHT
BEGIN:STANDARD
TZOFFSETFROM:-0400
TZOFFSETTO:-0500
TZNAME:EST
DTSTART:20231105T060000
END:STANDARD
END:VTIMEZONE
BEGIN:VEVENT
DTSTART;TZID=America/Toronto:20220908T090000
DTEND;TZID=America/Toronto:20220908T120000
DTSTAMP:20260421T064226
CREATED:20220901T142851Z
LAST-MODIFIED:20220901T143024Z
UID:10000004-1662627600-1662638400@esintl.ca
SUMMARY:Scribing for Emergency Management: ESI (S-100) Closed session for Perth County Ontario
DESCRIPTION:Equip your team to professionally present themselves and provide accurate information during and after every emergency. This course introduces methods and best practices\, providing opportunities for participants to practice their skills. \nEmergencies and disasters are high stress situations where decisions need to be made in minutes and the stakes are high. Emergency Managers rely upon strong\, credible information to make decisions. The primary way to capture and retain information during disasters is by using Emergency Management Scribes. \nScribing for Emergency Management prepares you for the integral role you will play in emergency management and how your efforts directly contribute to response efforts. You will be taught scribing methods and best practices and how to apply these skills in several training exercises. ESI offers this course as an in-person\, real-time virtual\, and virtual course to suit your organization. Complete this course as a group or at your own pace. To buy this course click on the link: https://emergency-solutions-international.mykajabi.com/offers/2wmHkpRA/checkout \nSpecific Course Topics \n\nMethods and best practices\nHow to apply your new skills\n\nTarget Audience \nPersonnel wishing to play an essential role in emergency management and document control.\nLeaders who would have a scribe assigned.\nIncident Command Post or Emergency Operations Centre Staff \nDuration \nHalf-day (4 hours)  \nPre-requisite \nNone \nNote: All our courses are set at eastern time zone\, which is Toronto time.
URL:https://esintl.ca/course/scribing-for-emergency-management-esi-s-100-closed-session-for-perth-county-ontario/
LOCATION:Virtual
CATEGORIES:Miscellaneous,Scribing for Emergency Management
END:VEVENT
END:VCALENDAR